BEGIN:VCALENDAR
VERSION:2.0
PRODID:-//כיד הדמיון - ECPv6.2.9//NONSGML v1.0//EN
CALSCALE:GREGORIAN
METHOD:PUBLISH
X-ORIGINAL-URL:https://hadimyon.co.il/?lang=en
X-WR-CALDESC:Events for כיד הדמיון
REFRESH-INTERVAL;VALUE=DURATION:PT1H
X-Robots-Tag:noindex
X-PUBLISHED-TTL:PT1H
BEGIN:VTIMEZONE
TZID:UTC
BEGIN:STANDARD
TZOFFSETFROM:+0000
TZOFFSETTO:+0000
TZNAME:UTC
DTSTART:20240101T000000
END:STANDARD
END:VTIMEZONE
BEGIN:VEVENT
DTSTART;TZID=UTC:20240308T080000
DTEND;TZID=UTC:20240308T170000
DTSTAMP:20260420T014255
CREATED:20240201T074814Z
LAST-MODIFIED:20240201T074814Z
UID:834-1709884800-1709917200@hadimyon.co.il
SUMMARY:יום האישה
DESCRIPTION:
URL:https://hadimyon.co.il/event/%d7%99%d7%95%d7%9d-%d7%94%d7%90%d7%99%d7%a9%d7%94/?lang=en
CATEGORIES:חוגים
END:VEVENT
END:VCALENDAR