BEGIN:VCALENDAR
VERSION:2.0
PRODID:-//כיד הדמיון - ECPv6.2.9//NONSGML v1.0//EN
CALSCALE:GREGORIAN
METHOD:PUBLISH
X-ORIGINAL-URL:https://hadimyon.co.il/?lang=en
X-WR-CALDESC:Events for כיד הדמיון
REFRESH-INTERVAL;VALUE=DURATION:PT1H
X-Robots-Tag:noindex
X-PUBLISHED-TTL:PT1H
BEGIN:VTIMEZONE
TZID:UTC
BEGIN:STANDARD
TZOFFSETFROM:+0000
TZOFFSETTO:+0000
TZNAME:UTC
DTSTART:20230101T000000
END:STANDARD
END:VTIMEZONE
BEGIN:VEVENT
DTSTART;TZID=UTC:20231215T080000
DTEND;TZID=UTC:20231215T170000
DTSTAMP:20260422T152730
CREATED:20231206T171829Z
LAST-MODIFIED:20231206T171829Z
UID:329-1702627200-1702659600@hadimyon.co.il
SUMMARY:סדנת חנוכיות
DESCRIPTION:
URL:https://hadimyon.co.il/event/%d7%a1%d7%93%d7%a0%d7%aa-%d7%97%d7%a0%d7%95%d7%9b%d7%99%d7%95%d7%aa/?lang=en
CATEGORIES:ארועים פרטיים
END:VEVENT
END:VCALENDAR